BEGIN:VCALENDAR
VERSION:2.0
PRODID:-//go.botanica - ECPv6.15.20//NONSGML v1.0//EN
CALSCALE:GREGORIAN
METHOD:PUBLISH
X-ORIGINAL-URL:https://gobotanica.com
X-WR-CALDESC:Events for go.botanica
REFRESH-INTERVAL;VALUE=DURATION:PT1H
X-Robots-Tag:noindex
X-PUBLISHED-TTL:PT1H
BEGIN:VTIMEZONE
TZID:Europe/London
BEGIN:DAYLIGHT
TZOFFSETFROM:+0000
TZOFFSETTO:+0100
TZNAME:BST
DTSTART:20240331T010000
END:DAYLIGHT
BEGIN:STANDARD
TZOFFSETFROM:+0100
TZOFFSETTO:+0000
TZNAME:GMT
DTSTART:20241027T010000
END:STANDARD
BEGIN:DAYLIGHT
TZOFFSETFROM:+0000
TZOFFSETTO:+0100
TZNAME:BST
DTSTART:20250330T010000
END:DAYLIGHT
BEGIN:STANDARD
TZOFFSETFROM:+0100
TZOFFSETTO:+0000
TZNAME:GMT
DTSTART:20251026T010000
END:STANDARD
BEGIN:DAYLIGHT
TZOFFSETFROM:+0000
TZOFFSETTO:+0100
TZNAME:BST
DTSTART:20260329T010000
END:DAYLIGHT
BEGIN:STANDARD
TZOFFSETFROM:+0100
TZOFFSETTO:+0000
TZNAME:GMT
DTSTART:20261025T010000
END:STANDARD
END:VTIMEZONE
BEGIN:VEVENT
DTSTART;TZID=Europe/London:20250524T103000
DTEND;TZID=Europe/London:20250524T123000
DTSTAMP:20260422T181253
CREATED:20250307T143500Z
LAST-MODIFIED:20250307T143644Z
UID:209964-1748082600-1748089800@gobotanica.com
SUMMARY:Peonie workshop
DESCRIPTION:Join our floral arrangement workshop to master the art of peony arrangement! Led by expert florists\, you’ll learn techniques for selecting\, trimming\, and creatively arranging peonies into stunning bouquets. Perfect for beginners and enthusiasts alike. All materials provided.
URL:https://gobotanica.com/class/peonie-workshop-2/
LOCATION:go.botanica\, Hove\, Hove Railway Station\, Goldstone Villas\, Hove\, East Sussex\, BN3 3RU\, United Kingdom
ATTACH;FMTTYPE=image/jpeg:https://gobotanica.com/wp-content/uploads/2024/05/gift_voucher-square.jpg
ORGANIZER;CN="go.botanica":MAILTO:info@gobotanica.com
END:VEVENT
END:VCALENDAR