BEGIN:VCALENDAR
VERSION:2.0
PRODID:-//go.botanica - ECPv6.15.20//NONSGML v1.0//EN
CALSCALE:GREGORIAN
METHOD:PUBLISH
X-WR-CALNAME:go.botanica
X-ORIGINAL-URL:https://gobotanica.com
X-WR-CALDESC:Events for go.botanica
REFRESH-INTERVAL;VALUE=DURATION:PT1H
X-Robots-Tag:noindex
X-PUBLISHED-TTL:PT1H
BEGIN:VTIMEZONE
TZID:Europe/London
BEGIN:DAYLIGHT
TZOFFSETFROM:+0000
TZOFFSETTO:+0100
TZNAME:BST
DTSTART:20240331T010000
END:DAYLIGHT
BEGIN:STANDARD
TZOFFSETFROM:+0100
TZOFFSETTO:+0000
TZNAME:GMT
DTSTART:20241027T010000
END:STANDARD
BEGIN:DAYLIGHT
TZOFFSETFROM:+0000
TZOFFSETTO:+0100
TZNAME:BST
DTSTART:20250330T010000
END:DAYLIGHT
BEGIN:STANDARD
TZOFFSETFROM:+0100
TZOFFSETTO:+0000
TZNAME:GMT
DTSTART:20251026T010000
END:STANDARD
BEGIN:DAYLIGHT
TZOFFSETFROM:+0000
TZOFFSETTO:+0100
TZNAME:BST
DTSTART:20260329T010000
END:DAYLIGHT
BEGIN:STANDARD
TZOFFSETFROM:+0100
TZOFFSETTO:+0000
TZNAME:GMT
DTSTART:20261025T010000
END:STANDARD
END:VTIMEZONE
BEGIN:VEVENT
DTSTART;TZID=Europe/London:20250412T103000
DTEND;TZID=Europe/London:20250412T123000
DTSTAMP:20260422T211445
CREATED:20250307T145615Z
LAST-MODIFIED:20250307T145723Z
UID:209971-1744453800-1744461000@gobotanica.com
SUMMARY:Easter wreath making / spring planter for Easter
DESCRIPTION:Join our Easter wreath making / spring planter workshop! Led by expert florists\, you’ll learn techniques for selecting\, trimming\, and creatively arranging seasonal stems and plants into a stunning wreath or spring planter . Perfect for beginners and enthusiasts alike. All materials provided.
URL:https://gobotanica.com/class/easter-wreath-making-spring-planter-for-easter/
LOCATION:go.botanica\, Hove\, Hove Railway Station\, Goldstone Villas\, Hove\, East Sussex\, BN3 3RU\, United Kingdom
ATTACH;FMTTYPE=image/jpeg:https://gobotanica.com/wp-content/uploads/2025/03/muscari-bowl-Mothers-Day-flowers.jpg
ORGANIZER;CN="go.botanica":MAILTO:info@gobotanica.com
END:VEVENT
END:VCALENDAR